BEGIN:VCALENDAR
VERSION:2.0
PRODID:-//Tukios.com/
BEGIN:VEVENT
UID:65fdff17-bb69-4e34-b0e3-a969817497b2@www.henryfuneralhome.net
DTSTAMP:20260422T091054Z
DTSTART:20260424T150000Z
DTEND:20260424T160000Z
SUMMARY:Graveside Service
DESCRIPTION:
URL:https://www.henryfuneralhome.net/obituaries/ann-mcpherson
LOCATION:Thornrose Cemetery 1041 W Beverley St  Staunton VA 24401
GEO:38.151169;-79.0845663
END:VEVENT
END:VCALENDAR