BEGIN:VCALENDAR
VERSION:2.0
PRODID:-//Tukios.com/
BEGIN:VEVENT
UID:0cd92938-84d8-4556-affd-e344238179b0@www.henryfuneralhome.net
DTSTAMP:20260421T002648Z
DTSTART:20260426T180000Z
DTEND:20260426T190000Z
SUMMARY:Memorial Service
DESCRIPTION:
URL:https://www.henryfuneralhome.net/obituaries/caleb-cliff-mullins-jr
LOCATION: 1030 West Beverley Street  Staunton VA 24401
GEO:38.1505103;-79.084604
END:VEVENT
END:VCALENDAR