BEGIN:VCALENDAR
VERSION:2.0
PRODID:-//Tukios.com/
BEGIN:VEVENT
UID:fb838191-9600-4bc7-8eb4-8f801bba05fb@www.henryfuneralhome.net
DTSTAMP:20260421T003116Z
DTSTART:20260426T163000Z
DTEND:20260426T180000Z
SUMMARY:Visitation
DESCRIPTION:
URL:https://www.henryfuneralhome.net/obituaries/caleb-cliff-mullins-jr
LOCATION: 1030 West Beverley Street  Staunton VA 24401
GEO:38.1505103;-79.084604
END:VEVENT
END:VCALENDAR