BEGIN:VCALENDAR
VERSION:2.0
PRODID:-//Tukios.com/
BEGIN:VEVENT
UID:e0a156a8-d287-4a5a-b554-3bb6f6bdfae3@www.henryfuneralhome.net
DTSTAMP:20260421T194915Z
DTSTART:20260424T180000Z
DTEND:20260424T190000Z
SUMMARY:Graveside Service
DESCRIPTION:
URL:https://www.henryfuneralhome.net/obituaries/david-whitesell
LOCATION:Augusta Memorial Park 1775 Old Goose Crk Rd  Waynesboro VA 22980
GEO:38.0808348;-78.9525778
END:VEVENT
END:VCALENDAR