BEGIN:VCALENDAR
VERSION:2.0
PRODID:-//Tukios.com/
BEGIN:VEVENT
UID:1a8b3e38-db69-423a-a356-d9cd14894152@www.henryfuneralhome.net
DTSTAMP:20260423T224341Z
DTSTART:20260426T180000Z
DTEND:20260426T183000Z
SUMMARY:Graveside Service
DESCRIPTION:
URL:https://www.henryfuneralhome.net/obituaries/emerson-deitz-sr
LOCATION: 30 Tinkling Spring Dr  Fishersville VA 22939
GEO:38.0850909;-78.982162
END:VEVENT
END:VCALENDAR