BEGIN:VCALENDAR
VERSION:2.0
PRODID:-//Tukios.com/
BEGIN:VEVENT
UID:47026cad-0dd3-4e6a-9bd2-dd07353509a0@www.henryfuneralhome.net
DTSTAMP:20260423T223822Z
DTSTART:20260426T184500Z
DTEND:20260426T194500Z
SUMMARY:Memorial Service
DESCRIPTION:
URL:https://www.henryfuneralhome.net/obituaries/emerson-deitz-sr
LOCATION: 30 Tinkling Spring Rd  Fishersville VA 22939
GEO:38.0973501;-78.9679808
END:VEVENT
END:VCALENDAR