BEGIN:VCALENDAR
VERSION:2.0
PRODID:-//Tukios.com/
BEGIN:VEVENT
UID:d103fa37-562d-4ef9-855c-d7f75fe56755@www.henryfuneralhome.net
DTSTAMP:20260423T091532Z
DTSTART:20260425T170000Z
DTEND:20260425T180000Z
SUMMARY:Visitation
DESCRIPTION:
URL:https://www.henryfuneralhome.net/obituaries/james-mcgraw
LOCATION:Henry Funeral Home 1030 West Beverley Street  Staunton VA 24401
GEO:38.1505103;-79.084604
END:VEVENT
END:VCALENDAR