BEGIN:VCALENDAR
VERSION:2.0
PRODID:-//Tukios.com/
BEGIN:VEVENT
UID:36de24a7-384f-44fa-8c09-ed28cd2c3f92@www.henryfuneralhome.net
DTSTAMP:20260422T052321Z
DTSTART:20260501T160000Z
DTEND:20260501T180000Z
SUMMARY:Funeral Mass
DESCRIPTION:
URL:https://www.henryfuneralhome.net/obituaries/luigi-retrosi
LOCATION: 118 N New St  Staunton VA 24401
GEO:38.1512841;-79.0720437
END:VEVENT
END:VCALENDAR