BEGIN:VCALENDAR
VERSION:2.0
PRODID:-//Tukios.com/
BEGIN:VEVENT
UID:7057e918-b28f-4322-be5d-c50b0889db2b@www.henryfuneralhome.net
DTSTAMP:20260424T223106Z
DTSTART:20260426T220000Z
DTEND:20260427T000000Z
SUMMARY:Visitation
DESCRIPTION:
URL:https://www.henryfuneralhome.net/obituaries/nancy-swisher
LOCATION:Henry Funeral Home 1030 West Beverley Street  Staunton VA 24401
GEO:38.1505103;-79.084604
END:VEVENT
END:VCALENDAR