BEGIN:VCALENDAR
VERSION:2.0
PRODID:-//Tukios.com/
BEGIN:VEVENT
UID:b05255d8-a694-4e45-ba2e-f59fa6768762@www.henryfuneralhome.net
DTSTAMP:20260424T222834Z
DTSTART:20260427T150000Z
DTEND:20260427T160000Z
SUMMARY:Funeral Service
DESCRIPTION:
URL:https://www.henryfuneralhome.net/obituaries/nancy-swisher
LOCATION:Henry Funeral Home 1030 West Beverley Street  Staunton VA 24401
GEO:38.1505103;-79.084604
END:VEVENT
END:VCALENDAR