BEGIN:VCALENDAR
VERSION:2.0
PRODID:-//Tukios.com/
BEGIN:VEVENT
UID:10ec9cd7-717c-425d-b9d5-bdcaca572313@www.henryfuneralhome.net
DTSTAMP:20260422T200629Z
DTSTART:20260424T220000Z
DTEND:20260425T000000Z
SUMMARY:Visitation
DESCRIPTION:
URL:https://www.henryfuneralhome.net/obituaries/susie-mcculley
LOCATION: 1030 West Beverley Street  Staunton VA 24401
GEO:38.1505103;-79.084604
END:VEVENT
END:VCALENDAR