BEGIN:VCALENDAR
VERSION:2.0
PRODID:-//Tukios.com/
BEGIN:VEVENT
UID:9d41f18c-fe59-4d69-ab52-c3b338f5a42b@www.henryfuneralhome.net
DTSTAMP:20260422T195853Z
DTSTART:20260425T150000Z
DTEND:20260425T160000Z
SUMMARY:Funeral Service
DESCRIPTION:
URL:https://www.henryfuneralhome.net/obituaries/susie-mcculley
LOCATION:Shenandoah Baptist Church 170 Lee Hwy  Verona VA 24482
GEO:38.1954293;-79.0171581
END:VEVENT
END:VCALENDAR